BEGIN:VCALENDAR
VERSION:2.0
PRODID:-//Club de la Continuité d&#039;Activité - ECPv6.8.1//NONSGML v1.0//EN
CALSCALE:GREGORIAN
METHOD:PUBLISH
X-WR-CALNAME:Club de la Continuité d&#039;Activité
X-ORIGINAL-URL:https://club-continuite-activite.com
X-WR-CALDESC:Évènements pour Club de la Continuité d&#039;Activité
REFRESH-INTERVAL;VALUE=DURATION:PT1H
X-Robots-Tag:noindex
X-PUBLISHED-TTL:PT1H
BEGIN:VTIMEZONE
TZID:Europe/Paris
BEGIN:DAYLIGHT
TZOFFSETFROM:+0100
TZOFFSETTO:+0200
TZNAME:CEST
DTSTART:20250330T010000
END:DAYLIGHT
BEGIN:STANDARD
TZOFFSETFROM:+0200
TZOFFSETTO:+0100
TZNAME:CET
DTSTART:20251026T010000
END:STANDARD
END:VTIMEZONE
BEGIN:VEVENT
DTSTART;TZID=Europe/Paris:20250911T123000
DTEND;TZID=Europe/Paris:20250911T170000
DTSTAMP:20260420T105133
CREATED:20250822T081430Z
LAST-MODIFIED:20250822T131758Z
UID:2933-1757593800-1757610000@club-continuite-activite.com
SUMMARY:🚗 GT PCA exceptionnel chez Renault Group – 11 septembre 2025
DESCRIPTION:Le Club CCA a le plaisir de vous convier à un GT PCA exceptionnel organisé en partenariat avec le Groupe Renault\, qui nous accueillera dans ses locaux de Boulogne-Billancourt le 11 septembre prochain. \n🕛 Au programme :\n\n12h30 : Déjeuner convivial en commun pour démarrer cette rencontre dans une ambiance chaleureuse.\n14h00 : Début des interventions autour de la Control Tower Business Continuity de la Supply Chain\, la Continuité d’Activité et la Gestion de crise du Groupe Renault.\n\n🎙️ Intervenants :\n\nThierry Blein et Frédéric Depaepe\nPrésentation par la Direction Prévention & Protection sur :\n\nLes dispositifs de gestion de crise\nLes stratégies de continuité d’activité\nLes outils utilisés au sein du Groupe Renault\n\n\nÉchanges interactifs avec les participants\nActualités du CCA\n\n⚠️ Informations pratiques :\n\nParticipation uniquement en présentiel (aucune diffusion via Teams)\nNombre de places limité à 20 personnes\nLe Club vous invitant à ses frais\, nous remercions ceux qui s’inscrivent de s’assurer de leur agenda ou de prévenir en cas d’imprévu au plus tard le 5/9
URL:https://club-continuite-activite.com/evenement/%f0%9f%9a%97-gt-pca-exceptionnel-chez-renault-group-11-septembre-2025/
LOCATION:RENAULT GROUP\, 27 rue des Abondances\, BOULOGNE BILLANCOURT\, 92100\, France
END:VEVENT
END:VCALENDAR